BEGIN:VCALENDAR
VERSION:2.0
PRODID:-//Fortem Australia - ECPv6.15.17.1//NONSGML v1.0//EN
CALSCALE:GREGORIAN
METHOD:PUBLISH
X-WR-CALNAME:Fortem Australia
X-ORIGINAL-URL:https://fortemaustralia.org.au
X-WR-CALDESC:Events for Fortem Australia
REFRESH-INTERVAL;VALUE=DURATION:PT1H
X-Robots-Tag:noindex
X-PUBLISHED-TTL:PT1H
BEGIN:VTIMEZONE
TZID:Australia/Perth
BEGIN:STANDARD
TZOFFSETFROM:+0800
TZOFFSETTO:+0800
TZNAME:AWST
DTSTART:20240101T000000
END:STANDARD
END:VTIMEZONE
BEGIN:VEVENT
DTSTART;TZID=Australia/Perth:20250329T120000
DTEND;TZID=Australia/Perth:20250329T130000
DTSTAMP:20260420T000511
CREATED:20241223T025051Z
LAST-MODIFIED:20250327T232514Z
UID:10003786-1743249600-1743253200@fortemaustralia.org.au
SUMMARY:Build your own Solar Moon Exploration Car | Virtual
DESCRIPTION:Join us virtually as you build your own Solar Moon Exploration Car.\nFortem posts you an art & craft kits with all the supplies\, you just need to join us on the day of the activity and join the group host in being hands on building this fun and enjoyable machine.\nThis free wellbeing activity is for first responder families (check out who we serve). Register yourself\, and up to one other adult and up to two children aged 10 and over.  \nAll Fortem Wellbeing Activities are underpinned by the 5 Ways to Wellbeing. Created by our partners at The Royal Melbourne Hospital\, this is a set of practical lifestyle habits which contribute to improving our overall mental fitness.  \nRegister your interest in attending this activity by clicking on the Registration Form button below. Registration is not complete until you receive confirmation by email from the Fortem team.   
URL:https://fortemaustralia.org.au/event/build-your-own-solar-moon-exploration-car-virtual/
LOCATION:Far North QLD\, Australia
CATEGORIES:Be Mindful,Connect,Keep Learning
GEO:-25.274398;133.775136
END:VEVENT
END:VCALENDAR